BEGIN:VCALENDAR
VERSION:2.0
PRODID:-//hacksw/handcal//NONSGML v1.0//EN
BEGIN:VEVENT
SUMMARY:CDC Open 3D - Schweighouse 5 / PCM 3
UID:4214034c-9664-484b-9a6d-f8adccf27271
DTSTART:20260912T120000Z
DTEND:20260912T170000Z
LOCATION:Localisation   
CATEGORIES:Sportif
STATUS:
URL;VALUE=URI:https://pcmundolsheim.sportsregions.fr/evenements/2026/09/12/cdc-open-3d-schweighouse-5-pcm-3-2432842
END:VEVENT
END:VCALENDAR
