BEGIN:VCALENDAR
VERSION:2.0
PRODID:-//hacksw/handcal//NONSGML v1.0//EN
BEGIN:VEVENT
SUMMARY:CDC Open 3D - Reichstett 1 / PCM 5
UID:f2a5a712-62b0-474c-84e7-24c49133df91
DTSTART:20260912T120000Z
DTEND:20260912T170000Z
LOCATION:Localisation   
CATEGORIES:Sportif
STATUS:
URL;VALUE=URI:https://pcmundolsheim.sportsregions.fr/evenements/2026/09/12/cdc-open-3d-reichstett-1-pcm-5-2432843
END:VEVENT
END:VCALENDAR
