BEGIN:VCALENDAR
VERSION:2.0
PRODID:-//hacksw/handcal//NONSGML v1.0//EN
BEGIN:VEVENT
SUMMARY:7N Challenge Veterans - Dalhunden
UID:d22aa80d-532b-4164-b6ee-af8c222542e5
DTSTART:20260528T120000Z
DTEND:20260528T170000Z
LOCATION:Localisation   
CATEGORIES:Sportif
STATUS:
URL;VALUE=URI:https://pcmundolsheim.sportsregions.fr/evenements/2026/05/28/7n-challenge-veterans-dalhunden-2425715
END:VEVENT
END:VCALENDAR
