BEGIN:VCALENDAR
VERSION:2.0
PRODID:-//hacksw/handcal//NONSGML v1.0//EN
BEGIN:VEVENT
SUMMARY:CDC V3C - WOLFISHEIM V3 / PCM V3
UID:f2b6239a-e887-4373-8434-5c35dd20a71d
DTSTART:20260526T120000Z
DTEND:20260526T170000Z
LOCATION:Localisation   
CATEGORIES:Sportif
STATUS:
URL;VALUE=URI:https://pcmundolsheim.sportsregions.fr/evenements/2026/05/26/cdc-v3c-wolfisheim-v3-pcm-v3-2425850
END:VEVENT
END:VCALENDAR
