BEGIN:VCALENDAR
VERSION:2.0
PRODID:-//hacksw/handcal//NONSGML v1.0//EN
BEGIN:VEVENT
SUMMARY:CDC V3B - OTTERSTHAL V2 / PCM V5
UID:ce4d20f9-3ee9-418a-ba0c-59f99c4653e5
DTSTART:20260526T120000Z
DTEND:20260526T170000Z
LOCATION:Localisation   
CATEGORIES:Sportif
STATUS:
URL;VALUE=URI:https://pcmundolsheim.sportsregions.fr/evenements/2026/05/26/cdc-v3b-ottersthal-v2-pcm-v5-2425923
END:VEVENT
END:VCALENDAR
