BEGIN:VCALENDAR
VERSION:2.0
PRODID:-//hacksw/handcal//NONSGML v1.0//EN
BEGIN:VEVENT
SUMMARY:CDC V2B - PETANCAIR'S V1 / PCM V2
UID:459e800c-43d4-4fcf-8068-f6ae3aae5aa6
DTSTART:20260526T120000Z
DTEND:20260526T170000Z
LOCATION:Localisation   
CATEGORIES:Sportif
STATUS:
URL;VALUE=URI:https://pcmundolsheim.sportsregions.fr/evenements/2026/05/26/cdc-v2b-petancairs-v1-pcm-v2-2425840
END:VEVENT
END:VCALENDAR
