BEGIN:VCALENDAR
VERSION:2.0
PRODID:-//hacksw/handcal//NONSGML v1.0//EN
BEGIN:VEVENT
SUMMARY:CDC FA - PCM F1 / Gambsheim F2
UID:681aaf62-f9d7-4fef-80e9-6c4c25b5be24
DTSTART:20260501T120000Z
DTEND:20260501T170000Z
LOCATION:PC Mundolsheim 8 a rue des floralies 67450 mundolsheim
CATEGORIES:Sportif
STATUS:
URL;VALUE=URI:https://pcmundolsheim.sportsregions.fr/evenements/2026/05/01/cdc-fa-pcm-f1-gambsheim-f2-2432763
END:VEVENT
END:VCALENDAR
