BEGIN:VCALENDAR
VERSION:2.0
PRODID:-//hacksw/handcal//NONSGML v1.0//EN
BEGIN:VEVENT
SUMMARY:3N Challenge Veterans - Haguenau CB
UID:4f5fabe5-cd3f-4d16-8f1a-b4fd322bd165
DTSTART:20260416T120000Z
DTEND:20260416T170000Z
LOCATION:Localisation   
CATEGORIES:Sportif
STATUS:
URL;VALUE=URI:https://pcmundolsheim.sportsregions.fr/evenements/2026/04/16/3n-challenge-veterans-haguenau-cb-2425711
END:VEVENT
END:VCALENDAR
