BEGIN:VCALENDAR
VERSION:2.0
PRODID:-//hacksw/handcal//NONSGML v1.0//EN
BEGIN:VEVENT
SUMMARY:Coupe de France
UID:5fe20cbe-c832-415c-bddc-7b9c479d2f08
DTSTART:20260308T130000Z
DTEND:20260308T170000Z
LOCATION:Localisation   
CATEGORIES:Sportif
STATUS:
URL;VALUE=URI:https://pcmundolsheim.sportsregions.fr/evenements/2026/03/08/coupe-de-france-2425022
END:VEVENT
END:VCALENDAR
